BEGIN:VCALENDAR
VERSION:2.0
PRODID:-//PermaVista Ranch - ECPv6.15.20//NONSGML v1.0//EN
CALSCALE:GREGORIAN
METHOD:PUBLISH
X-WR-CALNAME:PermaVista Ranch
X-ORIGINAL-URL:https://www.permavistaranch.com
X-WR-CALDESC:Events for PermaVista Ranch
REFRESH-INTERVAL;VALUE=DURATION:PT1H
X-Robots-Tag:noindex
X-PUBLISHED-TTL:PT1H
BEGIN:VTIMEZONE
TZID:UTC
BEGIN:STANDARD
TZOFFSETFROM:+0000
TZOFFSETTO:+0000
TZNAME:UTC
DTSTART:20230101T000000
END:STANDARD
END:VTIMEZONE
BEGIN:VEVENT
DTSTART;VALUE=DATE:20241124
DTEND;VALUE=DATE:20241128
DTSTAMP:20260423T044039
CREATED:20241022T223452Z
LAST-MODIFIED:20241022T223452Z
UID:3743-1732406400-1732751999@www.permavistaranch.com
SUMMARY:Booked
DESCRIPTION:
URL:https://www.permavistaranch.com/booking/booked-278/
CATEGORIES:booked
END:VEVENT
BEGIN:VEVENT
DTSTART;VALUE=DATE:20241127
DTEND;VALUE=DATE:20241202
DTSTAMP:20260423T044039
CREATED:20230619T193822Z
LAST-MODIFIED:20230619T193822Z
UID:3519-1732665600-1733097599@www.permavistaranch.com
SUMMARY:Booked
DESCRIPTION:
URL:https://www.permavistaranch.com/booking/booked-226/
CATEGORIES:booked
END:VEVENT
END:VCALENDAR