BEGIN:VCALENDAR
VERSION:2.0
PRODID:-//PermaVista Ranch - ECPv6.15.20//NONSGML v1.0//EN
CALSCALE:GREGORIAN
METHOD:PUBLISH
X-WR-CALNAME:PermaVista Ranch
X-ORIGINAL-URL:https://www.permavistaranch.com
X-WR-CALDESC:Events for PermaVista Ranch
REFRESH-INTERVAL;VALUE=DURATION:PT1H
X-Robots-Tag:noindex
X-PUBLISHED-TTL:PT1H
BEGIN:VTIMEZONE
TZID:UTC
BEGIN:STANDARD
TZOFFSETFROM:+0000
TZOFFSETTO:+0000
TZNAME:UTC
DTSTART:20230101T000000
END:STANDARD
END:VTIMEZONE
BEGIN:VEVENT
DTSTART;VALUE=DATE:20240503
DTEND;VALUE=DATE:20240506
DTSTAMP:20260423T052205
CREATED:20230508T140424Z
LAST-MODIFIED:20230508T140424Z
UID:3499-1714694400-1714953599@www.permavistaranch.com
SUMMARY:Booked
DESCRIPTION:
URL:https://www.permavistaranch.com/booking/booked-221/
CATEGORIES:booked
END:VEVENT
BEGIN:VEVENT
DTSTART;VALUE=DATE:20240510
DTEND;VALUE=DATE:20240513
DTSTAMP:20260423T052205
CREATED:20240419T052339Z
LAST-MODIFIED:20240419T052339Z
UID:3683-1715299200-1715558399@www.permavistaranch.com
SUMMARY:Booked
DESCRIPTION:
URL:https://www.permavistaranch.com/booking/booked-259/
CATEGORIES:booked
END:VEVENT
BEGIN:VEVENT
DTSTART;VALUE=DATE:20240516
DTEND;VALUE=DATE:20240520
DTSTAMP:20260423T052205
CREATED:20230526T163949Z
LAST-MODIFIED:20230526T202521Z
UID:3502-1715817600-1716163199@www.permavistaranch.com
SUMMARY:Blocked
DESCRIPTION:
URL:https://www.permavistaranch.com/booking/blocked-2/
CATEGORIES:booked
END:VEVENT
BEGIN:VEVENT
DTSTART;VALUE=DATE:20240522
DTEND;VALUE=DATE:20240526
DTSTAMP:20260423T052205
CREATED:20240306T134320Z
LAST-MODIFIED:20240307T180052Z
UID:3645-1716336000-1716681599@www.permavistaranch.com
SUMMARY:Booked
DESCRIPTION:
URL:https://www.permavistaranch.com/booking/booked-252/
CATEGORIES:booked
END:VEVENT
BEGIN:VEVENT
DTSTART;VALUE=DATE:20240526
DTEND;VALUE=DATE:20240527
DTSTAMP:20260423T052205
CREATED:20240308T180428Z
LAST-MODIFIED:20240308T180428Z
UID:3649-1716681600-1716767999@www.permavistaranch.com
SUMMARY:Booked
DESCRIPTION:
URL:https://www.permavistaranch.com/booking/booked-253/
CATEGORIES:booked
END:VEVENT
END:VCALENDAR