BEGIN:VCALENDAR
VERSION:2.0
PRODID:-//PermaVista Ranch - ECPv6.15.20//NONSGML v1.0//EN
CALSCALE:GREGORIAN
METHOD:PUBLISH
X-WR-CALNAME:PermaVista Ranch
X-ORIGINAL-URL:https://www.permavistaranch.com
X-WR-CALDESC:Events for PermaVista Ranch
REFRESH-INTERVAL;VALUE=DURATION:PT1H
X-Robots-Tag:noindex
X-PUBLISHED-TTL:PT1H
BEGIN:VTIMEZONE
TZID:UTC
BEGIN:STANDARD
TZOFFSETFROM:+0000
TZOFFSETTO:+0000
TZNAME:UTC
DTSTART:20230101T000000
END:STANDARD
END:VTIMEZONE
BEGIN:VEVENT
DTSTART;VALUE=DATE:20240405
DTEND;VALUE=DATE:20240411
DTSTAMP:20260423T035602
CREATED:20230616T160726Z
LAST-MODIFIED:20230616T160726Z
UID:3514-1712275200-1712793599@www.permavistaranch.com
SUMMARY:Booked
DESCRIPTION:
URL:https://www.permavistaranch.com/booking/booked-224/
CATEGORIES:booked
END:VEVENT
BEGIN:VEVENT
DTSTART;VALUE=DATE:20240416
DTEND;VALUE=DATE:20240418
DTSTAMP:20260423T035602
CREATED:20240111T234444Z
LAST-MODIFIED:20240111T234444Z
UID:3607-1713225600-1713398399@www.permavistaranch.com
SUMMARY:Booked
DESCRIPTION:
URL:https://www.permavistaranch.com/booking/booked-242/
CATEGORIES:booked
END:VEVENT
BEGIN:VEVENT
DTSTART;VALUE=DATE:20240422
DTEND;VALUE=DATE:20240427
DTSTAMP:20260423T035602
CREATED:20240226T132242Z
LAST-MODIFIED:20240226T132242Z
UID:3635-1713744000-1714175999@www.permavistaranch.com
SUMMARY:Booked
DESCRIPTION:
URL:https://www.permavistaranch.com/booking/booked-248/
CATEGORIES:booked
END:VEVENT
BEGIN:VEVENT
DTSTART;VALUE=DATE:20240422
DTEND;VALUE=DATE:20240427
DTSTAMP:20260423T035602
CREATED:20240306T134256Z
LAST-MODIFIED:20240306T134256Z
UID:3643-1713744000-1714175999@www.permavistaranch.com
SUMMARY:Booked
DESCRIPTION:
URL:https://www.permavistaranch.com/booking/booked-251/
CATEGORIES:booked
END:VEVENT
BEGIN:VEVENT
DTSTART;VALUE=DATE:20240426
DTEND;VALUE=DATE:20240429
DTSTAMP:20260423T035602
CREATED:20240129T010151Z
LAST-MODIFIED:20240129T010151Z
UID:3615-1714089600-1714348799@www.permavistaranch.com
SUMMARY:Booked
DESCRIPTION:
URL:https://www.permavistaranch.com/booking/booked-244/
CATEGORIES:booked
END:VEVENT
END:VCALENDAR