BEGIN:VCALENDAR
VERSION:2.0
PRODID:-//PermaVista Ranch - ECPv6.15.20//NONSGML v1.0//EN
CALSCALE:GREGORIAN
METHOD:PUBLISH
X-WR-CALNAME:PermaVista Ranch
X-ORIGINAL-URL:https://www.permavistaranch.com
X-WR-CALDESC:Events for PermaVista Ranch
REFRESH-INTERVAL;VALUE=DURATION:PT1H
X-Robots-Tag:noindex
X-PUBLISHED-TTL:PT1H
BEGIN:VTIMEZONE
TZID:UTC
BEGIN:STANDARD
TZOFFSETFROM:+0000
TZOFFSETTO:+0000
TZNAME:UTC
DTSTART:20220101T000000
END:STANDARD
END:VTIMEZONE
BEGIN:VEVENT
DTSTART;TZID=UTC:20231207T080000
DTEND;TZID=UTC:20231210T170000
DTSTAMP:20260423T130613
CREATED:20231004T042455Z
LAST-MODIFIED:20231004T042455Z
UID:3592-1701936000-1702227600@www.permavistaranch.com
SUMMARY:Booked
DESCRIPTION:
URL:https://www.permavistaranch.com/booking/booked-239/
CATEGORIES:booked
END:VEVENT
BEGIN:VEVENT
DTSTART;TZID=UTC:20231223T080000
DTEND;TZID=UTC:20231226T170000
DTSTAMP:20260423T130613
CREATED:20230405T014836Z
LAST-MODIFIED:20230405T014836Z
UID:3464-1703318400-1703610000@www.permavistaranch.com
SUMMARY:Booked
DESCRIPTION:
URL:https://www.permavistaranch.com/booking/booked-216/
CATEGORIES:booked
END:VEVENT
END:VCALENDAR