BEGIN:VCALENDAR
VERSION:2.0
PRODID:-//PermaVista Ranch - ECPv6.15.20//NONSGML v1.0//EN
CALSCALE:GREGORIAN
METHOD:PUBLISH
X-WR-CALNAME:PermaVista Ranch
X-ORIGINAL-URL:https://www.permavistaranch.com
X-WR-CALDESC:Events for PermaVista Ranch
REFRESH-INTERVAL;VALUE=DURATION:PT1H
X-Robots-Tag:noindex
X-PUBLISHED-TTL:PT1H
BEGIN:VTIMEZONE
TZID:UTC
BEGIN:STANDARD
TZOFFSETFROM:+0000
TZOFFSETTO:+0000
TZNAME:UTC
DTSTART:20200101T000000
END:STANDARD
END:VTIMEZONE
BEGIN:VEVENT
DTSTART;VALUE=DATE:20210829
DTEND;VALUE=DATE:20210903
DTSTAMP:20260422T011326
CREATED:20200723T175116Z
LAST-MODIFIED:20210614T120933Z
UID:2143-1630195200-1630627199@www.permavistaranch.com
SUMMARY:Booked
DESCRIPTION:
URL:https://www.permavistaranch.com/booking/booked-66/
CATEGORIES:booked
END:VEVENT
BEGIN:VEVENT
DTSTART;VALUE=DATE:20210903
DTEND;VALUE=DATE:20210907
DTSTAMP:20260422T011326
CREATED:20210713T103804Z
LAST-MODIFIED:20210713T105246Z
UID:2583-1630627200-1630972799@www.permavistaranch.com
SUMMARY:Booking
DESCRIPTION:
URL:https://www.permavistaranch.com/booking/3-6-sept-2021/
CATEGORIES:booked
END:VEVENT
BEGIN:VEVENT
DTSTART;VALUE=DATE:20210909
DTEND;VALUE=DATE:20210913
DTSTAMP:20260422T011326
CREATED:20210105T123424Z
LAST-MODIFIED:20210604T111942Z
UID:2356-1631145600-1631491199@www.permavistaranch.com
SUMMARY:Booked
DESCRIPTION:
URL:https://www.permavistaranch.com/booking/booked-96/
CATEGORIES:booked
END:VEVENT
BEGIN:VEVENT
DTSTART;TZID=UTC:20210917T080000
DTEND;TZID=UTC:20210919T170000
DTSTAMP:20260422T011326
CREATED:20210314T022048Z
LAST-MODIFIED:20210314T022048Z
UID:2481-1631865600-1632070800@www.permavistaranch.com
SUMMARY:Booked
DESCRIPTION:
URL:https://www.permavistaranch.com/booking/booked-116/
CATEGORIES:booked
END:VEVENT
BEGIN:VEVENT
DTSTART;VALUE=DATE:20210924
DTEND;VALUE=DATE:20210928
DTSTAMP:20260422T011326
CREATED:20210506T133712Z
LAST-MODIFIED:20210506T133712Z
UID:2531-1632441600-1632787199@www.permavistaranch.com
SUMMARY:Booked
DESCRIPTION:
URL:https://www.permavistaranch.com/booking/booked-129/
CATEGORIES:booked
END:VEVENT
BEGIN:VEVENT
DTSTART;VALUE=DATE:20210930
DTEND;VALUE=DATE:20211004
DTSTAMP:20260422T011326
CREATED:20200818T170314Z
LAST-MODIFIED:20200818T170514Z
UID:2182-1632960000-1633305599@www.permavistaranch.com
SUMMARY:Booked
DESCRIPTION:
URL:https://www.permavistaranch.com/booking/booked-74/
CATEGORIES:booked
END:VEVENT
END:VCALENDAR