BEGIN:VCALENDAR
VERSION:2.0
PRODID:-//PermaVista Ranch - ECPv6.15.20//NONSGML v1.0//EN
CALSCALE:GREGORIAN
METHOD:PUBLISH
X-WR-CALNAME:PermaVista Ranch
X-ORIGINAL-URL:https://www.permavistaranch.com
X-WR-CALDESC:Events for PermaVista Ranch
REFRESH-INTERVAL;VALUE=DURATION:PT1H
X-Robots-Tag:noindex
X-PUBLISHED-TTL:PT1H
BEGIN:VTIMEZONE
TZID:UTC
BEGIN:STANDARD
TZOFFSETFROM:+0000
TZOFFSETTO:+0000
TZNAME:UTC
DTSTART:20200101T000000
END:STANDARD
END:VTIMEZONE
BEGIN:VEVENT
DTSTART;VALUE=DATE:20210401
DTEND;VALUE=DATE:20210405
DTSTAMP:20260422T083354
CREATED:20200302T083716Z
LAST-MODIFIED:20200302T083716Z
UID:1958-1617235200-1617580799@www.permavistaranch.com
SUMMARY:Booked
DESCRIPTION:
URL:https://www.permavistaranch.com/booking/booked-51/
CATEGORIES:booked
END:VEVENT
BEGIN:VEVENT
DTSTART;TZID=UTC:20210408T080000
DTEND;TZID=UTC:20210411T170000
DTSTAMP:20260422T083354
CREATED:20210211T172605Z
LAST-MODIFIED:20210211T172605Z
UID:2449-1617868800-1618160400@www.permavistaranch.com
SUMMARY:Booked
DESCRIPTION:
URL:https://www.permavistaranch.com/booking/booked-108/
CATEGORIES:booked
END:VEVENT
BEGIN:VEVENT
DTSTART;VALUE=DATE:20210416
DTEND;VALUE=DATE:20210419
DTSTAMP:20260422T083354
CREATED:20210115T104604Z
LAST-MODIFIED:20210115T104821Z
UID:2386-1618531200-1618790399@www.permavistaranch.com
SUMMARY:Booked
DESCRIPTION:
URL:https://www.permavistaranch.com/booking/booked-april-16-2021/
CATEGORIES:booked
END:VEVENT
BEGIN:VEVENT
DTSTART;TZID=UTC:20210416T080000
DTEND;TZID=UTC:20210418T170000
DTSTAMP:20260422T083354
CREATED:20210118T154111Z
LAST-MODIFIED:20210118T154111Z
UID:2393-1618560000-1618765200@www.permavistaranch.com
SUMMARY:Booked
DESCRIPTION:
URL:https://www.permavistaranch.com/booking/booked-100/
CATEGORIES:booked
END:VEVENT
BEGIN:VEVENT
DTSTART;VALUE=DATE:20210423
DTEND;VALUE=DATE:20210427
DTSTAMP:20260422T083354
CREATED:20201021T060638Z
LAST-MODIFIED:20201021T060638Z
UID:2209-1619136000-1619481599@www.permavistaranch.com
SUMMARY:Booked
DESCRIPTION:
URL:https://www.permavistaranch.com/booking/booked-81/
CATEGORIES:booked
END:VEVENT
BEGIN:VEVENT
DTSTART;TZID=UTC:20210430T000000
DTEND;TZID=UTC:20210503T235900
DTSTAMP:20260422T083354
CREATED:20201118T074327Z
LAST-MODIFIED:20201118T074418Z
UID:2227-1619740800-1620086340@www.permavistaranch.com
SUMMARY:Booked
DESCRIPTION:
URL:https://www.permavistaranch.com/booking/booked-88/
CATEGORIES:booked
END:VEVENT
END:VCALENDAR