BEGIN:VCALENDAR
VERSION:2.0
PRODID:-//PermaVista Ranch - ECPv6.15.20//NONSGML v1.0//EN
CALSCALE:GREGORIAN
METHOD:PUBLISH
X-ORIGINAL-URL:https://www.permavistaranch.com
X-WR-CALDESC:Events for PermaVista Ranch
REFRESH-INTERVAL;VALUE=DURATION:PT1H
X-Robots-Tag:noindex
X-PUBLISHED-TTL:PT1H
BEGIN:VTIMEZONE
TZID:UTC
BEGIN:STANDARD
TZOFFSETFROM:+0000
TZOFFSETTO:+0000
TZNAME:UTC
DTSTART:20200101T000000
END:STANDARD
END:VTIMEZONE
BEGIN:VEVENT
DTSTART;VALUE=DATE:20210312
DTEND;VALUE=DATE:20210315
DTSTAMP:20260422T101755
CREATED:20210224T131640Z
LAST-MODIFIED:20210224T131640Z
UID:2458-1615507200-1615766399@www.permavistaranch.com
SUMMARY:Booked
DESCRIPTION:
URL:https://www.permavistaranch.com/booking/booked-111/
CATEGORIES:booked
END:VEVENT
BEGIN:VEVENT
DTSTART;VALUE=DATE:20210314
DTEND;VALUE=DATE:20210319
DTSTAMP:20260422T101755
CREATED:20210104T061501Z
LAST-MODIFIED:20210104T061501Z
UID:2353-1615680000-1616111999@www.permavistaranch.com
SUMMARY:Booked
DESCRIPTION:
URL:https://www.permavistaranch.com/booking/booked-95/
CATEGORIES:booked
END:VEVENT
BEGIN:VEVENT
DTSTART;TZID=UTC:20210319T080000
DTEND;TZID=UTC:20210321T170000
DTSTAMP:20260422T101755
CREATED:20210317T004630Z
LAST-MODIFIED:20210317T004630Z
UID:2487-1616140800-1616346000@www.permavistaranch.com
SUMMARY:Booked
DESCRIPTION:
URL:https://www.permavistaranch.com/booking/booked-118/
CATEGORIES:booked
END:VEVENT
BEGIN:VEVENT
DTSTART;TZID=UTC:20210326T080000
DTEND;TZID=UTC:20210327T170000
DTSTAMP:20260422T101755
CREATED:20210121T124948Z
LAST-MODIFIED:20210219T142014Z
UID:2412-1616745600-1616864400@www.permavistaranch.com
SUMMARY:Booked
DESCRIPTION:
URL:https://www.permavistaranch.com/booking/booked-103/
CATEGORIES:booked
END:VEVENT
BEGIN:VEVENT
DTSTART;TZID=UTC:20210328T080000
DTEND;TZID=UTC:20210330T170000
DTSTAMP:20260422T101755
CREATED:20210219T141855Z
LAST-MODIFIED:20210219T141855Z
UID:2454-1616918400-1617123600@www.permavistaranch.com
SUMMARY:Booked
DESCRIPTION:
URL:https://www.permavistaranch.com/booking/booked-110/
CATEGORIES:booked
END:VEVENT
END:VCALENDAR