BEGIN:VCALENDAR
VERSION:2.0
PRODID:-//PermaVista Ranch - ECPv6.15.20//NONSGML v1.0//EN
CALSCALE:GREGORIAN
METHOD:PUBLISH
X-ORIGINAL-URL:https://www.permavistaranch.com
X-WR-CALDESC:Events for PermaVista Ranch
REFRESH-INTERVAL;VALUE=DURATION:PT1H
X-Robots-Tag:noindex
X-PUBLISHED-TTL:PT1H
BEGIN:VTIMEZONE
TZID:UTC
BEGIN:STANDARD
TZOFFSETFROM:+0000
TZOFFSETTO:+0000
TZNAME:UTC
DTSTART:20200101T000000
END:STANDARD
END:VTIMEZONE
BEGIN:VEVENT
DTSTART;VALUE=DATE:20210205
DTEND;VALUE=DATE:20210208
DTSTAMP:20260422T115524
CREATED:20201123T053913Z
LAST-MODIFIED:20201123T053913Z
UID:2268-1612483200-1612742399@www.permavistaranch.com
SUMMARY:Booked
DESCRIPTION:
URL:https://www.permavistaranch.com/booking/booked-91/
CATEGORIES:booked
END:VEVENT
BEGIN:VEVENT
DTSTART;TZID=UTC:20210219T080000
DTEND;TZID=UTC:20210221T170000
DTSTAMP:20260422T115524
CREATED:20210127T151129Z
LAST-MODIFIED:20210127T151156Z
UID:2426-1613721600-1613926800@www.permavistaranch.com
SUMMARY:Booked
DESCRIPTION:
URL:https://www.permavistaranch.com/booking/booked-104/
CATEGORIES:booked
END:VEVENT
BEGIN:VEVENT
DTSTART;TZID=UTC:20210222T080000
DTEND;TZID=UTC:20210225T170000
DTSTAMP:20260422T115524
CREATED:20210219T141720Z
LAST-MODIFIED:20210219T141720Z
UID:2452-1613980800-1614272400@www.permavistaranch.com
SUMMARY:Booked
DESCRIPTION:
URL:https://www.permavistaranch.com/booking/booked-109/
CATEGORIES:booked
END:VEVENT
BEGIN:VEVENT
DTSTART;VALUE=DATE:20210226
DTEND;VALUE=DATE:20210301
DTSTAMP:20260422T115524
CREATED:20201222T092748Z
LAST-MODIFIED:20201222T092908Z
UID:2346-1614297600-1614556799@www.permavistaranch.com
SUMMARY:Booked
DESCRIPTION:
URL:https://www.permavistaranch.com/booking/booked-94/
CATEGORIES:booked
END:VEVENT
END:VCALENDAR