BEGIN:VCALENDAR
VERSION:2.0
PRODID:-//PermaVista Ranch - ECPv6.15.20//NONSGML v1.0//EN
CALSCALE:GREGORIAN
METHOD:PUBLISH
X-ORIGINAL-URL:https://www.permavistaranch.com
X-WR-CALDESC:Events for PermaVista Ranch
REFRESH-INTERVAL;VALUE=DURATION:PT1H
X-Robots-Tag:noindex
X-PUBLISHED-TTL:PT1H
BEGIN:VTIMEZONE
TZID:UTC
BEGIN:STANDARD
TZOFFSETFROM:+0000
TZOFFSETTO:+0000
TZNAME:UTC
DTSTART:20190101T000000
END:STANDARD
END:VTIMEZONE
BEGIN:VEVENT
DTSTART;VALUE=DATE:20201001
DTEND;VALUE=DATE:20201005
DTSTAMP:20260422T183149
CREATED:20190626T101147Z
LAST-MODIFIED:20190814T120700Z
UID:1678-1601510400-1601855999@www.permavistaranch.com
SUMMARY:Booked
DESCRIPTION:
URL:https://www.permavistaranch.com/booking/booked-19/
CATEGORIES:booked
END:VEVENT
BEGIN:VEVENT
DTSTART;VALUE=DATE:20201009
DTEND;VALUE=DATE:20201012
DTSTAMP:20260422T183149
CREATED:20200922T202722Z
LAST-MODIFIED:20200922T202722Z
UID:2199-1602201600-1602460799@www.permavistaranch.com
SUMMARY:Booked
DESCRIPTION:
URL:https://www.permavistaranch.com/booking/booked-77/
CATEGORIES:booked
END:VEVENT
BEGIN:VEVENT
DTSTART;VALUE=DATE:20201023
DTEND;VALUE=DATE:20201026
DTSTAMP:20260422T183149
CREATED:20191126T145051Z
LAST-MODIFIED:20191126T145217Z
UID:1828-1603411200-1603670399@www.permavistaranch.com
SUMMARY:Booked
DESCRIPTION:
URL:https://www.permavistaranch.com/booking/booked-10-23/
CATEGORIES:booked
END:VEVENT
BEGIN:VEVENT
DTSTART;VALUE=DATE:20201030
DTEND;VALUE=DATE:20201102
DTSTAMP:20260422T183149
CREATED:20200604T045629Z
LAST-MODIFIED:20200604T045629Z
UID:2083-1604016000-1604275199@www.permavistaranch.com
SUMMARY:Booked
DESCRIPTION:
URL:https://www.permavistaranch.com/booking/booked-60/
CATEGORIES:booked
END:VEVENT
END:VCALENDAR